Package: Sconify Version: 1.26.0 Command: /Library/Frameworks/R.framework/Resources/bin/R CMD INSTALL Sconify StartedAt: 2025-03-31 15:39:23 -0400 (Mon, 31 Mar 2025) EndedAt: 2025-03-31 15:39:34 -0400 (Mon, 31 Mar 2025) EllapsedTime: 11.3 seconds RetCode: 0 Status: OK