Package: Sconify Version: 1.26.0 Command: /Library/Frameworks/R.framework/Resources/bin/R CMD check --install=check:Sconify.install-out.txt --library=/Library/Frameworks/R.framework/Resources/library --no-vignettes --timings Sconify_1.26.0.tar.gz StartedAt: 2025-04-02 07:59:45 -0400 (Wed, 02 Apr 2025) EndedAt: 2025-04-02 08:01:42 -0400 (Wed, 02 Apr 2025) EllapsedTime: 117.0 seconds RetCode: 0 Status: OK CheckDir: Sconify.Rcheck Warnings: 0