Package: ScaledMatrix Version: 1.14.0 Command: rm -rf ScaledMatrix.buildbin-libdir && mkdir ScaledMatrix.buildbin-libdir && /Users/biocbuild/BBS/utils/build-universal.sh ScaledMatrix_1.14.0.tar.gz /Library/Frameworks/R.framework/Resources/bin/R ScaledMatrix.buildbin-libdir StartedAt: 2025-04-01 12:40:52 -0400 (Tue, 01 Apr 2025) EndedAt: 2025-04-01 12:41:35 -0400 (Tue, 01 Apr 2025) EllapsedTime: 42.4 seconds RetCode: 0 Status: OK PackageFile: ScaledMatrix_1.14.0.tgz PackageFileSize: 603.3 KiB