Package: ScaledMatrix Version: 1.14.0 Command: /Library/Frameworks/R.framework/Resources/bin/R CMD INSTALL ScaledMatrix StartedAt: 2025-03-31 15:17:17 -0400 (Mon, 31 Mar 2025) EndedAt: 2025-03-31 15:17:38 -0400 (Mon, 31 Mar 2025) EllapsedTime: 20.8 seconds RetCode: 0 Status: OK