Package: Scale4C Version: 1.28.0 Command: rm -rf Scale4C.buildbin-libdir && mkdir Scale4C.buildbin-libdir && F:\biocbuild\bbs-3.20-bioc\R\bin\R.exe CMD INSTALL --build --library=Scale4C.buildbin-libdir Scale4C_1.28.0.tar.gz StartedAt: 2025-04-01 09:08:07 -0400 (Tue, 01 Apr 2025) EndedAt: 2025-04-01 09:09:02 -0400 (Tue, 01 Apr 2025) EllapsedTime: 55.6 seconds RetCode: 0 Status: OK PackageFile: Scale4C_1.28.0.zip PackageFileSize: 2.147 MiB