Package: Scale4C Version: 1.28.0 Command: /home/biocbuild/bbs-3.20-bioc/R/bin/R CMD check --install=check:Scale4C.install-out.txt --library=/home/biocbuild/bbs-3.20-bioc/R/site-library --timings Scale4C_1.28.0.tar.gz StartedAt: 2025-04-01 01:50:02 -0400 (Tue, 01 Apr 2025) EndedAt: 2025-04-01 01:54:06 -0400 (Tue, 01 Apr 2025) EllapsedTime: 243.3 seconds RetCode: 0 Status: OK CheckDir: Scale4C.Rcheck Warnings: 0