Package: Scale4C Version: 1.28.0 Command: /Library/Frameworks/R.framework/Resources/bin/R CMD INSTALL Scale4C StartedAt: 2025-03-31 15:40:18 -0400 (Mon, 31 Mar 2025) EndedAt: 2025-03-31 15:41:21 -0400 (Mon, 31 Mar 2025) EllapsedTime: 62.3 seconds RetCode: 0 Status: OK