Package: Scale4C Version: 1.28.0 Command: /Library/Frameworks/R.framework/Resources/bin/R CMD build --keep-empty-dirs --no-resave-data Scale4C StartedAt: 2025-03-31 21:39:46 -0400 (Mon, 31 Mar 2025) EndedAt: 2025-03-31 21:43:38 -0400 (Mon, 31 Mar 2025) EllapsedTime: 232.4 seconds RetCode: 0 Status: OK PackageFile: Scale4C_1.28.0.tar.gz PackageFileSize: 4.9 MiB