Package: Scale4C Version: 1.28.0 Command: /Library/Frameworks/R.framework/Resources/bin/R CMD build --keep-empty-dirs --no-resave-data Scale4C StartedAt: 2025-04-01 06:49:25 -0400 (Tue, 01 Apr 2025) EndedAt: 2025-04-01 06:51:15 -0400 (Tue, 01 Apr 2025) EllapsedTime: 110.1 seconds RetCode: 0 Status: OK PackageFile: Scale4C_1.28.0.tar.gz PackageFileSize: 4.9 MiB