Package: SamSPECTRAL Version: 1.60.0 Command: /home/biocbuild/R/R/bin/R CMD INSTALL SamSPECTRAL StartedAt: 2025-03-31 20:13:46 -0000 (Mon, 31 Mar 2025) EndedAt: 2025-03-31 20:14:11 -0000 (Mon, 31 Mar 2025) EllapsedTime: 25.8 seconds RetCode: 0 Status: OK