Package: SamSPECTRAL Version: 1.60.0 Command: /Library/Frameworks/R.framework/Resources/bin/R CMD INSTALL SamSPECTRAL StartedAt: 2025-03-31 15:06:40 -0400 (Mon, 31 Mar 2025) EndedAt: 2025-03-31 15:07:03 -0400 (Mon, 31 Mar 2025) EllapsedTime: 23.0 seconds RetCode: 0 Status: OK