Package: SWATH2stats Version: 1.36.0 Command: /home/biocbuild/R/R/bin/R CMD INSTALL SWATH2stats StartedAt: 2025-03-31 20:38:58 -0000 (Mon, 31 Mar 2025) EndedAt: 2025-03-31 20:39:22 -0000 (Mon, 31 Mar 2025) EllapsedTime: 23.9 seconds RetCode: 0 Status: OK