Package: SWATH2stats Version: 1.36.0 Command: chmod a+r SWATH2stats -R && F:\biocbuild\bbs-3.20-bioc\R\bin\R.exe CMD build --keep-empty-dirs --no-resave-data SWATH2stats StartedAt: 2025-03-31 22:15:55 -0400 (Mon, 31 Mar 2025) EndedAt: 2025-03-31 22:17:20 -0400 (Mon, 31 Mar 2025) EllapsedTime: 84.6 seconds RetCode: 0 Status: OK PackageFile: SWATH2stats_1.36.0.tar.gz PackageFileSize: 2.925 MiB