Package: SWATH2stats Version: 1.36.0 Command: /home/biocbuild/bbs-3.20-bioc/R/bin/R CMD check --install=check:SWATH2stats.install-out.txt --library=/home/biocbuild/bbs-3.20-bioc/R/site-library --timings SWATH2stats_1.36.0.tar.gz StartedAt: 2025-04-01 02:47:11 -0400 (Tue, 01 Apr 2025) EndedAt: 2025-04-01 02:49:53 -0400 (Tue, 01 Apr 2025) EllapsedTime: 162.2 seconds RetCode: 0 Status: OK CheckDir: SWATH2stats.Rcheck Warnings: 0