Package: SWATH2stats Version: 1.36.0 Command: /Library/Frameworks/R.framework/Resources/bin/R CMD INSTALL SWATH2stats StartedAt: 2025-03-31 15:45:24 -0400 (Mon, 31 Mar 2025) EndedAt: 2025-03-31 15:46:01 -0400 (Mon, 31 Mar 2025) EllapsedTime: 37.3 seconds RetCode: 0 Status: OK