Package: SVMDO Version: 1.6.0 Command: rm -rf SVMDO.buildbin-libdir && mkdir SVMDO.buildbin-libdir && /Users/biocbuild/BBS/utils/build-universal.sh SVMDO_1.6.0.tar.gz /Library/Frameworks/R.framework/Resources/bin/R SVMDO.buildbin-libdir StartedAt: 2025-04-01 12:53:07 -0400 (Tue, 01 Apr 2025) EndedAt: 2025-04-01 12:54:22 -0400 (Tue, 01 Apr 2025) EllapsedTime: 75.2 seconds RetCode: 0 Status: OK PackageFile: SVMDO_1.6.0.tgz PackageFileSize: 2.361 MiB