Package: SUITOR Version: 1.8.0 Command: F:\biocbuild\bbs-3.20-bioc\R\bin\R.exe CMD check --no-multiarch --install=check:SUITOR.install-out.txt --library=F:\biocbuild\bbs-3.20-bioc\R\library --no-vignettes --timings SUITOR_1.8.0.tar.gz StartedAt: 2025-04-01 06:31:55 -0400 (Tue, 01 Apr 2025) EndedAt: 2025-04-01 06:32:56 -0400 (Tue, 01 Apr 2025) EllapsedTime: 61.3 seconds RetCode: 0 Status: OK CheckDir: SUITOR.Rcheck Warnings: 0