Package: SUITOR Version: 1.8.0 Command: /Library/Frameworks/R.framework/Resources/bin/R CMD check --install=check:SUITOR.install-out.txt --library=/Library/Frameworks/R.framework/Resources/library --no-vignettes --timings SUITOR_1.8.0.tar.gz StartedAt: 2025-04-01 09:57:23 -0400 (Tue, 01 Apr 2025) EndedAt: 2025-04-01 09:58:58 -0400 (Tue, 01 Apr 2025) EllapsedTime: 95.8 seconds RetCode: 0 Status: OK CheckDir: SUITOR.Rcheck Warnings: 0