Package: SUITOR Version: 1.8.0 Command: /Library/Frameworks/R.framework/Resources/bin/R CMD build --keep-empty-dirs --no-resave-data SUITOR StartedAt: 2025-03-31 22:25:50 -0400 (Mon, 31 Mar 2025) EndedAt: 2025-03-31 22:28:10 -0400 (Mon, 31 Mar 2025) EllapsedTime: 140.1 seconds RetCode: 0 Status: OK PackageFile: SUITOR_1.8.0.tar.gz PackageFileSize: 252.5 KiB