Package: STdeconvolve Version: 1.10.0 Command: /home/biocbuild/R/R/bin/R CMD INSTALL STdeconvolve StartedAt: 2025-03-31 21:16:25 -0000 (Mon, 31 Mar 2025) EndedAt: 2025-03-31 21:16:25 -0000 (Mon, 31 Mar 2025) EllapsedTime: 0.3 seconds RetCode: 1 Status: ERROR