Package: STdeconvolve Version: 1.10.0 Command: chmod a+r STdeconvolve -R && F:\biocbuild\bbs-3.20-bioc\R\bin\R.exe CMD build --keep-empty-dirs --no-resave-data STdeconvolve StartedAt: 2025-03-31 22:12:51 -0400 (Mon, 31 Mar 2025) EndedAt: 2025-03-31 22:12:53 -0400 (Mon, 31 Mar 2025) EllapsedTime: 2.2 seconds RetCode: 1 Status: ERROR PackageFile: None PackageFileSize: NA