Package: STRINGdb Version: 2.18.0 Command: /home/biocbuild/R/R/bin/R CMD INSTALL STRINGdb StartedAt: 2025-03-31 20:25:06 -0000 (Mon, 31 Mar 2025) EndedAt: 2025-03-31 20:25:12 -0000 (Mon, 31 Mar 2025) EllapsedTime: 6.0 seconds RetCode: 0 Status: OK