Package: STRINGdb Version: 2.18.0 Command: /home/biocbuild/R/R/bin/R CMD build --keep-empty-dirs --no-resave-data STRINGdb StartedAt: 2025-04-01 02:59:56 -0000 (Tue, 01 Apr 2025) EndedAt: 2025-04-01 03:09:01 -0000 (Tue, 01 Apr 2025) EllapsedTime: 544.6 seconds RetCode: 0 Status: OK PackageFile: STRINGdb_2.18.0.tar.gz PackageFileSize: 9.942 MiB