Package: STRINGdb Version: 2.18.0 Command: chmod a+r STRINGdb -R && F:\biocbuild\bbs-3.20-bioc\R\bin\R.exe CMD build --keep-empty-dirs --no-resave-data STRINGdb StartedAt: 2025-03-31 22:13:15 -0400 (Mon, 31 Mar 2025) EndedAt: 2025-03-31 22:17:30 -0400 (Mon, 31 Mar 2025) EllapsedTime: 255.6 seconds RetCode: 0 Status: OK PackageFile: STRINGdb_2.18.0.tar.gz PackageFileSize: 9.871 MiB