Package: STRINGdb Version: 2.18.0 Command: /home/biocbuild/bbs-3.20-bioc/R/bin/R CMD build --keep-empty-dirs --no-resave-data --md5 STRINGdb StartedAt: 2025-03-31 19:19:58 -0400 (Mon, 31 Mar 2025) EndedAt: 2025-03-31 19:24:03 -0400 (Mon, 31 Mar 2025) EllapsedTime: 245.2 seconds RetCode: 0 Status: OK PackageFile: STRINGdb_2.18.0.tar.gz PackageFileSize: 9.949 MiB