Package: STATegRa Version: 1.42.0 Command: /home/biocbuild/bbs-3.20-bioc/R/bin/R CMD build --keep-empty-dirs --no-resave-data --md5 STATegRa StartedAt: 2025-03-31 19:19:39 -0400 (Mon, 31 Mar 2025) EndedAt: 2025-03-31 19:21:26 -0400 (Mon, 31 Mar 2025) EllapsedTime: 107.1 seconds RetCode: 0 Status: OK PackageFile: STATegRa_1.42.0.tar.gz PackageFileSize: 4.944 MiB