Package: SPsimSeq Version: 1.16.0 Command: /home/biocbuild/R/R/bin/R CMD INSTALL SPsimSeq StartedAt: 2025-03-31 20:58:02 -0000 (Mon, 31 Mar 2025) EndedAt: 2025-03-31 20:58:46 -0000 (Mon, 31 Mar 2025) EllapsedTime: 43.9 seconds RetCode: 0 Status: OK