Package: SPsimSeq Version: 1.16.0 Command: chmod a+r SPsimSeq -R && F:\biocbuild\bbs-3.20-bioc\R\bin\R.exe CMD build --keep-empty-dirs --no-resave-data SPsimSeq StartedAt: 2025-03-31 22:09:28 -0400 (Mon, 31 Mar 2025) EndedAt: 2025-03-31 22:14:46 -0400 (Mon, 31 Mar 2025) EllapsedTime: 317.5 seconds RetCode: 0 Status: OK PackageFile: SPsimSeq_1.16.0.tar.gz PackageFileSize: 578.4 KiB