Package: SPONGE Version: 1.28.0 Command: /home/biocbuild/R/R/bin/R CMD INSTALL SPONGE StartedAt: 2025-03-31 21:10:59 -0000 (Mon, 31 Mar 2025) EndedAt: 2025-03-31 21:12:30 -0000 (Mon, 31 Mar 2025) EllapsedTime: 90.3 seconds RetCode: 0 Status: OK