Package: SPONGE Version: 1.28.0 Command: /home/biocbuild/bbs-3.20-bioc/R/bin/R CMD INSTALL SPONGE StartedAt: 2025-03-31 16:01:02 -0400 (Mon, 31 Mar 2025) EndedAt: 2025-03-31 16:02:16 -0400 (Mon, 31 Mar 2025) EllapsedTime: 73.7 seconds RetCode: 0 Status: OK