Package: SPONGE Version: 1.28.0 Command: /Library/Frameworks/R.framework/Resources/bin/R CMD INSTALL SPONGE StartedAt: 2025-03-31 16:40:34 -0400 (Mon, 31 Mar 2025) EndedAt: 2025-03-31 16:42:35 -0400 (Mon, 31 Mar 2025) EllapsedTime: 120.6 seconds RetCode: 0 Status: OK