Package: SPONGE Version: 1.28.0 Command: /Library/Frameworks/R.framework/Resources/bin/R CMD check --install=check:SPONGE.install-out.txt --library=/Library/Frameworks/R.framework/Resources/library --no-vignettes --timings SPONGE_1.28.0.tar.gz StartedAt: 2025-04-01 09:42:05 -0400 (Tue, 01 Apr 2025) EndedAt: 2025-04-01 09:53:33 -0400 (Tue, 01 Apr 2025) EllapsedTime: 688.1 seconds RetCode: 0 Status: WARNINGS CheckDir: SPONGE.Rcheck Warnings: 5