Package: SPONGE Version: 1.28.0 Command: /Library/Frameworks/R.framework/Resources/bin/R CMD INSTALL SPONGE StartedAt: 2025-03-31 18:17:59 -0400 (Mon, 31 Mar 2025) EndedAt: 2025-03-31 18:19:46 -0400 (Mon, 31 Mar 2025) EllapsedTime: 107.4 seconds RetCode: 0 Status: OK