Package: SPLINTER Version: 1.32.0 Command: chmod a+r SPLINTER -R && F:\biocbuild\bbs-3.20-bioc\R\bin\R.exe CMD build --keep-empty-dirs --no-resave-data SPLINTER StartedAt: 2025-03-31 22:08:25 -0400 (Mon, 31 Mar 2025) EndedAt: 2025-03-31 22:10:35 -0400 (Mon, 31 Mar 2025) EllapsedTime: 130.2 seconds RetCode: 0 Status: OK PackageFile: SPLINTER_1.32.0.tar.gz PackageFileSize: 960.2 KiB