Package: SPIAT Version: 1.8.1 Command: /home/biocbuild/R/R/bin/R CMD INSTALL SPIAT StartedAt: 2025-03-31 20:27:49 -0000 (Mon, 31 Mar 2025) EndedAt: 2025-03-31 20:27:50 -0000 (Mon, 31 Mar 2025) EllapsedTime: 1.0 seconds RetCode: 1 Status: ERROR