Package: SPIAT Version: 1.8.1 Command: /Library/Frameworks/R.framework/Resources/bin/R CMD INSTALL SPIAT StartedAt: 2025-03-31 15:45:48 -0400 (Mon, 31 Mar 2025) EndedAt: 2025-03-31 15:46:16 -0400 (Mon, 31 Mar 2025) EllapsedTime: 27.7 seconds RetCode: 0 Status: OK