Package: SPIA Version: 2.58.0 Command: F:\biocbuild\bbs-3.20-bioc\R\bin\R.exe CMD INSTALL SPIA StartedAt: 2025-03-31 15:47:20 -0400 (Mon, 31 Mar 2025) EndedAt: 2025-03-31 15:47:29 -0400 (Mon, 31 Mar 2025) EllapsedTime: 9.5 seconds RetCode: 0 Status: OK