Package: SPIA Version: 2.58.0 Command: /Library/Frameworks/R.framework/Resources/bin/R CMD INSTALL SPIA StartedAt: 2025-03-31 15:12:23 -0400 (Mon, 31 Mar 2025) EndedAt: 2025-03-31 15:12:29 -0400 (Mon, 31 Mar 2025) EllapsedTime: 5.9 seconds RetCode: 0 Status: OK