Package: SPIA Version: 2.58.0 Command: /Library/Frameworks/R.framework/Resources/bin/R CMD check --install=check:SPIA.install-out.txt --library=/Library/Frameworks/R.framework/Resources/library --no-vignettes --timings SPIA_2.58.0.tar.gz StartedAt: 2025-04-02 09:52:50 -0400 (Wed, 02 Apr 2025) EndedAt: 2025-04-02 10:01:32 -0400 (Wed, 02 Apr 2025) EllapsedTime: 521.9 seconds RetCode: 0 Status: OK CheckDir: SPIA.Rcheck Warnings: 0