Package: SOMNiBUS Version: 1.14.2 Command: F:\biocbuild\bbs-3.20-bioc\R\bin\R.exe CMD check --no-multiarch --install=check:SOMNiBUS.install-out.txt --library=F:\biocbuild\bbs-3.20-bioc\R\library --no-vignettes --timings SOMNiBUS_1.14.2.tar.gz StartedAt: 2025-04-01 06:11:36 -0400 (Tue, 01 Apr 2025) EndedAt: 2025-04-01 06:27:57 -0400 (Tue, 01 Apr 2025) EllapsedTime: 981.4 seconds RetCode: 0 Status: OK CheckDir: SOMNiBUS.Rcheck Warnings: 0