Package: SOMNiBUS Version: 1.14.2 Command: /Library/Frameworks/R.framework/Resources/bin/R CMD check --install=check:SOMNiBUS.install-out.txt --library=/Library/Frameworks/R.framework/Resources/library --no-vignettes --timings SOMNiBUS_1.14.2.tar.gz StartedAt: 2025-04-01 09:27:59 -0400 (Tue, 01 Apr 2025) EndedAt: 2025-04-01 09:51:28 -0400 (Tue, 01 Apr 2025) EllapsedTime: 1409.2 seconds RetCode: 0 Status: OK CheckDir: SOMNiBUS.Rcheck Warnings: 0