Package: SOMNiBUS Version: 1.14.2 Command: /Library/Frameworks/R.framework/Resources/bin/R CMD build --keep-empty-dirs --no-resave-data SOMNiBUS StartedAt: 2025-04-01 08:12:31 -0400 (Tue, 01 Apr 2025) EndedAt: 2025-04-01 08:20:00 -0400 (Tue, 01 Apr 2025) EllapsedTime: 448.7 seconds RetCode: 0 Status: OK PackageFile: SOMNiBUS_1.14.2.tar.gz PackageFileSize: 1.029 MiB