Package: SNPhood Version: 1.36.0 Command: /home/biocbuild/R/R/bin/R CMD INSTALL SNPhood StartedAt: 2025-03-31 20:34:23 -0000 (Mon, 31 Mar 2025) EndedAt: 2025-03-31 20:35:42 -0000 (Mon, 31 Mar 2025) EllapsedTime: 79.1 seconds RetCode: 0 Status: OK