Package: SNPhood Version: 1.36.0 Command: /Library/Frameworks/R.framework/Resources/bin/R CMD check --install=check:SNPhood.install-out.txt --library=/Library/Frameworks/R.framework/Resources/library --no-vignettes --timings SNPhood_1.36.0.tar.gz StartedAt: 2025-04-02 09:22:53 -0400 (Wed, 02 Apr 2025) EndedAt: 2025-04-02 09:34:14 -0400 (Wed, 02 Apr 2025) EllapsedTime: 680.5 seconds RetCode: 0 Status: OK CheckDir: SNPhood.Rcheck Warnings: 0