Package: SNPediaR Version: 1.32.0 Command: F:\biocbuild\bbs-3.20-bioc\R\bin\R.exe CMD INSTALL SNPediaR StartedAt: 2025-03-31 15:30:53 -0400 (Mon, 31 Mar 2025) EndedAt: 2025-03-31 15:31:01 -0400 (Mon, 31 Mar 2025) EllapsedTime: 7.5 seconds RetCode: 0 Status: OK