Package: SNPRelate Version: 1.40.0 Command: rm -rf SNPRelate.buildbin-libdir && mkdir SNPRelate.buildbin-libdir && /Users/biocbuild/BBS/utils/build-universal.sh SNPRelate_1.40.0.tar.gz /Library/Frameworks/R.framework/Resources/bin/R SNPRelate.buildbin-libdir StartedAt: 2025-04-02 16:25:45 -0400 (Wed, 02 Apr 2025) EndedAt: 2025-04-02 16:26:18 -0400 (Wed, 02 Apr 2025) EllapsedTime: 33.0 seconds RetCode: 0 Status: OK PackageFile: SNPRelate_1.40.0.tgz PackageFileSize: 3.808 MiB