Package: SMITE Version: 1.34.0 Command: /Library/Frameworks/R.framework/Resources/bin/R CMD build --keep-empty-dirs --no-resave-data SMITE StartedAt: 2025-04-01 08:08:32 -0400 (Tue, 01 Apr 2025) EndedAt: 2025-04-01 08:10:03 -0400 (Tue, 01 Apr 2025) EllapsedTime: 91.3 seconds RetCode: 0 Status: OK PackageFile: SMITE_1.34.0.tar.gz PackageFileSize: 3.117 MiB