Package: SLqPCR Version: 1.72.0 Command: rm -rf SLqPCR.buildbin-libdir && mkdir SLqPCR.buildbin-libdir && F:\biocbuild\bbs-3.20-bioc\R\bin\R.exe CMD INSTALL --build --library=SLqPCR.buildbin-libdir SLqPCR_1.72.0.tar.gz StartedAt: 2025-04-01 09:15:49 -0400 (Tue, 01 Apr 2025) EndedAt: 2025-04-01 09:15:54 -0400 (Tue, 01 Apr 2025) EllapsedTime: 5.2 seconds RetCode: 0 Status: OK PackageFile: SLqPCR_1.72.0.zip PackageFileSize: 141.8 KiB