Package: SLqPCR Version: 1.72.0 Command: /Library/Frameworks/R.framework/Resources/bin/R CMD build --keep-empty-dirs --no-resave-data SLqPCR StartedAt: 2025-03-31 22:09:24 -0400 (Mon, 31 Mar 2025) EndedAt: 2025-03-31 22:09:40 -0400 (Mon, 31 Mar 2025) EllapsedTime: 16.1 seconds RetCode: 0 Status: OK PackageFile: SLqPCR_1.72.0.tar.gz PackageFileSize: 220.7 KiB