Package: SLqPCR Version: 1.72.0 Command: /Library/Frameworks/R.framework/Resources/bin/R CMD INSTALL SLqPCR StartedAt: 2025-03-31 15:03:39 -0400 (Mon, 31 Mar 2025) EndedAt: 2025-03-31 15:03:42 -0400 (Mon, 31 Mar 2025) EllapsedTime: 2.7 seconds RetCode: 0 Status: OK